BEGIN:VCALENDAR
PRODID:-//104.198.15.25//NONSGML iCalcreator 2.6//
VERSION:2.0
BEGIN:VEVENT
UID:20260421T130018CEST-6643PRGzA2@104.198.15.25
DTSTAMP:20260421T110018Z
CATEGORIES:Association of Arbitrators (Southern Africa) NPCEvents
DESCRIPTION:
DTSTART:20260424T060000
DTEND:20260424T073000
LOCATION:
SUMMARY:Ask Experienced Practitioners! Navigating the Gauteng Mediation Dir
 ective and Protocol (23 April 2026)
END:VEVENT
END:VCALENDAR
