BEGIN:VCALENDAR
PRODID:-//104.198.15.25//NONSGML iCalcreator 2.6//
VERSION:2.0
BEGIN:VEVENT
UID:20260422T133623CEST-3144DUcg2i@104.198.15.25
DTSTAMP:20260422T113623Z
CATEGORIES:Association of Arbitrators (Southern Africa) NPCEvents
DESCRIPTION:
DTSTART:20260509T103000
DTEND:20260509T113000
LOCATION:
SUMMARY:Ask Experienced Practitioners! ADR Questions and Answers (8 May 202
 6)
END:VEVENT
END:VCALENDAR
