BEGIN:VCALENDAR
PRODID:-//104.198.15.25//NONSGML iCalcreator 2.6//
VERSION:2.0
BEGIN:VEVENT
UID:20260421T131108CEST-4628fmHFGH@104.198.15.25
DTSTAMP:20260421T111108Z
CATEGORIES:Association of Arbitrators (Southern Africa) NPCEvents
DESCRIPTION:
DTSTART:20260526T000000
DTEND:20260530T000000
LOCATION:
SUMMARY:5-Day Online Foundation Mediation Course (25 to 29 May 2026)
END:VEVENT
END:VCALENDAR
